Package: missMethyl Version: 1.29.0 Command: rm -rf missMethyl.buildbin-libdir && mkdir missMethyl.buildbin-libdir && D:\biocbuild\bbs-3.15-bioc\R\bin\R.exe CMD INSTALL --build --library=missMethyl.buildbin-libdir missMethyl_1.29.0.tar.gz StartedAt: 2022-03-16 21:13:27 -0400 (Wed, 16 Mar 2022) EndedAt: 2022-03-16 21:17:07 -0400 (Wed, 16 Mar 2022) EllapsedTime: 220.4 seconds RetCode: 0 Status: OK PackageFile: missMethyl_1.29.0.zip PackageFileSize: 800.8 KiB