Package: missMethyl Version: 1.30.0 Command: chmod a+r missMethyl -R && F:\biocbuild\bbs-3.15-bioc\R\bin\R.exe CMD build --keep-empty-dirs --no-resave-data missMethyl StartedAt: 2022-10-18 19:35:54 -0400 (Tue, 18 Oct 2022) EndedAt: 2022-10-18 19:52:22 -0400 (Tue, 18 Oct 2022) EllapsedTime: 987.7 seconds RetCode: 0 Status: OK PackageFile: missMethyl_1.30.0.tar.gz PackageFileSize: 636.9 KiB