Package: mirTarRnaSeq Version: 1.4.0 Command: chmod a+r mirTarRnaSeq -R && F:\biocbuild\bbs-3.15-bioc\R\bin\R.exe CMD build --keep-empty-dirs --no-resave-data mirTarRnaSeq StartedAt: 2022-10-18 19:35:52 -0400 (Tue, 18 Oct 2022) EndedAt: 2022-10-18 19:40:48 -0400 (Tue, 18 Oct 2022) EllapsedTime: 295.3 seconds RetCode: 0 Status: OK PackageFile: mirTarRnaSeq_1.4.0.tar.gz PackageFileSize: 3.314 MiB