Package: mirTarRnaSeq Version: 1.4.0 Command: rm -rf mirTarRnaSeq.buildbin-libdir && mkdir mirTarRnaSeq.buildbin-libdir && F:\biocbuild\bbs-3.15-bioc\R\bin\R.exe CMD INSTALL --build --library=mirTarRnaSeq.buildbin-libdir mirTarRnaSeq_1.4.0.tar.gz StartedAt: 2022-10-19 06:11:04 -0400 (Wed, 19 Oct 2022) EndedAt: 2022-10-19 06:11:34 -0400 (Wed, 19 Oct 2022) EllapsedTime: 29.7 seconds RetCode: 0 Status: OK PackageFile: mirTarRnaSeq_1.4.0.zip PackageFileSize: 4.464 MiB