Package: mgsa Version: 1.43.0 Command: D:\biocbuild\bbs-3.15-bioc\R\bin\R.exe CMD check --no-multiarch --install=check:mgsa.install-out.txt --library=D:\biocbuild\bbs-3.15-bioc\R\library --no-vignettes --timings mgsa_1.43.0.tar.gz StartedAt: 2022-03-17 19:34:02 -0400 (Thu, 17 Mar 2022) EndedAt: 2022-03-17 19:34:53 -0400 (Thu, 17 Mar 2022) EllapsedTime: 51.1 seconds RetCode: 0 Status: OK CheckDir: mgsa.Rcheck Warnings: 0