Package: mgsa Version: 1.43.0 Command: chmod a+r mgsa -R && D:\biocbuild\bbs-3.15-bioc\R\bin\R.exe CMD build --keep-empty-dirs --no-resave-data mgsa StartedAt: 2022-03-17 17:21:00 -0400 (Thu, 17 Mar 2022) EndedAt: 2022-03-17 17:21:17 -0400 (Thu, 17 Mar 2022) EllapsedTime: 17.2 seconds RetCode: 0 Status: OK PackageFile: mgsa_1.43.0.tar.gz PackageFileSize: 355.3 KiB