Package: mgsa Version: 1.44.0 Command: /Library/Frameworks/R.framework/Resources/bin/R CMD build --keep-empty-dirs --no-resave-data mgsa StartedAt: 2022-10-18 19:42:59 -0400 (Tue, 18 Oct 2022) EndedAt: 2022-10-18 19:43:22 -0400 (Tue, 18 Oct 2022) EllapsedTime: 23.0 seconds RetCode: 0 Status: OK PackageFile: mgsa_1.44.0.tar.gz PackageFileSize: 388.2 KiB