Package: methylCC Version: 1.10.0 Command: /home/biocbuild/bbs-3.15-bioc/R/bin/R CMD check --install=check:methylCC.install-out.txt --library=/home/biocbuild/bbs-3.15-bioc/R/library --no-vignettes --timings methylCC_1.10.0.tar.gz StartedAt: 2022-10-18 20:31:27 -0400 (Tue, 18 Oct 2022) EndedAt: 2022-10-18 20:38:38 -0400 (Tue, 18 Oct 2022) EllapsedTime: 431.2 seconds RetCode: 0 Status: OK CheckDir: methylCC.Rcheck Warnings: 0