Package: methrix Version: 1.9.0 Command: D:\biocbuild\bbs-3.15-bioc\R\bin\R.exe CMD check --no-multiarch --install=check:methrix.install-out.txt --library=D:\biocbuild\bbs-3.15-bioc\R\library --no-vignettes --timings methrix_1.9.0.tar.gz StartedAt: 2022-03-17 19:32:39 -0400 (Thu, 17 Mar 2022) EndedAt: 2022-03-17 19:37:07 -0400 (Thu, 17 Mar 2022) EllapsedTime: 268.2 seconds RetCode: 0 Status: OK CheckDir: methrix.Rcheck Warnings: 0