git_url: https://git.bioconductor.org/packages/metagenomeSeq git_branch: RELEASE_3_15 git_last_commit: 50be9db git_last_commit_date: 2022-04-26 11:14:17 -0400 (Tue, 26 Apr 2022) Package: metagenomeSeq Version: 1.38.0 Maintainer: Joseph N. Paulson MaintainerEmail: jpaulson at jimmy.harvard.edu