Package: metaSeq Version: 1.35.0 Command: D:\biocbuild\bbs-3.15-bioc\R\bin\R.exe CMD INSTALL metaSeq StartedAt: 2022-03-17 15:32:57 -0400 (Thu, 17 Mar 2022) EndedAt: 2022-03-17 15:33:57 -0400 (Thu, 17 Mar 2022) EllapsedTime: 60.2 seconds RetCode: 0 Status: OK