Package: metaSeq Version: 1.36.0 Command: chmod a+r metaSeq -R && F:\biocbuild\bbs-3.15-bioc\R\bin\R.exe CMD build --keep-empty-dirs --no-resave-data metaSeq StartedAt: 2022-10-18 19:26:25 -0400 (Tue, 18 Oct 2022) EndedAt: 2022-10-18 19:26:46 -0400 (Tue, 18 Oct 2022) EllapsedTime: 21.7 seconds RetCode: 0 Status: OK PackageFile: metaSeq_1.36.0.tar.gz PackageFileSize: 6.084 MiB