git_url: https://git.bioconductor.org/packages/memes git_branch: RELEASE_3_15 git_last_commit: affa506 git_last_commit_date: 2022-05-08 13:12:44 -0400 (Sun, 08 May 2022) Package: memes Version: 1.4.1 Maintainer: Spencer Nystrom MaintainerEmail: nystromdev at gmail.com