Package: martini Version: 1.16.0 Command: /Library/Frameworks/R.framework/Resources/bin/R CMD INSTALL martini StartedAt: 2022-10-18 15:23:36 -0400 (Tue, 18 Oct 2022) EndedAt: 2022-10-18 15:24:23 -0400 (Tue, 18 Oct 2022) EllapsedTime: 46.2 seconds RetCode: 0 Status: OK