Package: martini Version: 1.16.0 Command: /Library/Frameworks/R.framework/Resources/bin/R CMD check --install=check:martini.install-out.txt --library=/Library/Frameworks/R.framework/Resources/library --no-vignettes --timings martini_1.16.0.tar.gz StartedAt: 2022-10-19 04:11:16 -0400 (Wed, 19 Oct 2022) EndedAt: 2022-10-19 04:16:05 -0400 (Wed, 19 Oct 2022) EllapsedTime: 288.6 seconds RetCode: 1 Status: ERROR CheckDir: martini.Rcheck Warnings: NA