Package: martini Version: 1.16.0 Command: rm -rf martini.buildbin-libdir && mkdir martini.buildbin-libdir && /Users/biocbuild/BBS/utils/build-universal.sh martini_1.16.0.tar.gz /Library/Frameworks/R.framework/Resources/bin/R martini.buildbin-libdir StartedAt: 2022-10-19 10:37:17 -0400 (Wed, 19 Oct 2022) EndedAt: 2022-10-19 10:38:04 -0400 (Wed, 19 Oct 2022) EllapsedTime: 46.5 seconds RetCode: 0 Status: OK PackageFile: martini_1.16.0.tgz PackageFileSize: 679.6 KiB