git_url: https://git.bioconductor.org/packages/maftools git_branch: RELEASE_3_15 git_last_commit: 0ffc97e git_last_commit_date: 2022-04-26 11:33:50 -0400 (Tue, 26 Apr 2022) Package: maftools Version: 2.12.0 Maintainer: Anand Mayakonda MaintainerEmail: anand_mt at hotmail.com