Package: maanova Version: 1.66.0 Command: /home/biocbuild/bbs-3.15-bioc/R/bin/R CMD build --keep-empty-dirs --no-resave-data maanova StartedAt: 2022-10-18 17:00:41 -0400 (Tue, 18 Oct 2022) EndedAt: 2022-10-18 17:00:52 -0400 (Tue, 18 Oct 2022) EllapsedTime: 10.4 seconds RetCode: 0 Status: OK PackageFile: maanova_1.66.0.tar.gz PackageFileSize: 1.12 MiB