Package: lineagespot Version: 0.99.16 Command: rm -rf lineagespot.buildbin-libdir && mkdir lineagespot.buildbin-libdir && D:\biocbuild\bbs-3.15-bioc\R\bin\R.exe CMD INSTALL --build --library=lineagespot.buildbin-libdir lineagespot_0.99.16.tar.gz StartedAt: 2022-03-17 21:17:28 -0400 (Thu, 17 Mar 2022) EndedAt: 2022-03-17 21:18:50 -0400 (Thu, 17 Mar 2022) EllapsedTime: 82.2 seconds RetCode: 0 Status: OK PackageFile: lineagespot_0.99.16.zip PackageFileSize: 760.3 KiB