Package: lineagespot Version: 1.0.0 Command: rm -rf lineagespot.buildbin-libdir && mkdir lineagespot.buildbin-libdir && /Users/biocbuild/BBS/utils/build-universal.sh lineagespot_1.0.0.tar.gz /Library/Frameworks/R.framework/Resources/bin/R lineagespot.buildbin-libdir StartedAt: 2022-10-19 10:35:23 -0400 (Wed, 19 Oct 2022) EndedAt: 2022-10-19 10:36:44 -0400 (Wed, 19 Oct 2022) EllapsedTime: 80.5 seconds RetCode: 0 Status: OK PackageFile: lineagespot_1.0.0.tgz PackageFileSize: 751.1 KiB