git_url: https://git.bioconductor.org/packages/limmaGUI git_branch: RELEASE_3_15 git_last_commit: bc11ee8 git_last_commit_date: 2022-04-26 10:55:51 -0400 (Tue, 26 Apr 2022) Package: limmaGUI Version: 1.72.0 Maintainer: Gordon Smyth MaintainerEmail: smyth at wehi.edu.au