Package: kissDE Version: 1.16.0 Command: chmod a+r kissDE -R && F:\biocbuild\bbs-3.15-bioc\R\bin\R.exe CMD build --keep-empty-dirs --no-resave-data kissDE StartedAt: 2022-10-18 19:14:50 -0400 (Tue, 18 Oct 2022) EndedAt: 2022-10-18 19:17:09 -0400 (Tue, 18 Oct 2022) EllapsedTime: 138.6 seconds RetCode: 0 Status: OK PackageFile: kissDE_1.16.0.tar.gz PackageFileSize: 860.6 KiB