Package: keggorthology Version: 2.48.0 Command: F:\biocbuild\bbs-3.15-bioc\R\bin\R.exe CMD check --no-multiarch --install=check:keggorthology.install-out.txt --library=F:\biocbuild\bbs-3.15-bioc\R\library --no-vignettes --timings keggorthology_2.48.0.tar.gz StartedAt: 2022-10-19 01:19:06 -0400 (Wed, 19 Oct 2022) EndedAt: 2022-10-19 01:21:05 -0400 (Wed, 19 Oct 2022) EllapsedTime: 118.5 seconds RetCode: 0 Status: OK CheckDir: keggorthology.Rcheck Warnings: 0