Package: keggorthology Version: 2.48.0 Command: rm -rf keggorthology.buildbin-libdir && mkdir keggorthology.buildbin-libdir && /Users/biocbuild/BBS/utils/build-universal.sh keggorthology_2.48.0.tar.gz /Library/Frameworks/R.framework/Resources/bin/R keggorthology.buildbin-libdir StartedAt: 2022-10-19 10:34:38 -0400 (Wed, 19 Oct 2022) EndedAt: 2022-10-19 10:35:10 -0400 (Wed, 19 Oct 2022) EllapsedTime: 31.6 seconds RetCode: 0 Status: OK PackageFile: keggorthology_2.48.0.tgz PackageFileSize: 809.2 KiB