git_url: https://git.bioconductor.org/packages/iterativeBMAsurv git_branch: RELEASE_3_15 git_last_commit: a5dd772 git_last_commit_date: 2022-04-26 11:01:40 -0400 (Tue, 26 Apr 2022) Package: iterativeBMAsurv Version: 1.54.0 Maintainer: Ka Yee Yeung MaintainerEmail: kayee at u.washington.edu