Package: iterClust Version: 1.18.0 Command: chmod a+r iterClust -R && F:\biocbuild\bbs-3.15-bioc\R\bin\R.exe CMD build --keep-empty-dirs --no-resave-data iterClust StartedAt: 2022-10-18 19:13:38 -0400 (Tue, 18 Oct 2022) EndedAt: 2022-10-18 19:14:15 -0400 (Tue, 18 Oct 2022) EllapsedTime: 36.6 seconds RetCode: 0 Status: OK PackageFile: iterClust_1.18.0.tar.gz PackageFileSize: 116.3 KiB