Package: iterClust Version: 1.18.0 Command: rm -rf iterClust.buildbin-libdir && mkdir iterClust.buildbin-libdir && F:\biocbuild\bbs-3.15-bioc\R\bin\R.exe CMD INSTALL --build --library=iterClust.buildbin-libdir iterClust_1.18.0.tar.gz StartedAt: 2022-10-19 06:03:52 -0400 (Wed, 19 Oct 2022) EndedAt: 2022-10-19 06:04:04 -0400 (Wed, 19 Oct 2022) EllapsedTime: 11.7 seconds RetCode: 0 Status: OK PackageFile: iterClust_1.18.0.zip PackageFileSize: 144.9 KiB