Package: iterClust Version: 1.18.0 Command: /Library/Frameworks/R.framework/Resources/bin/R CMD INSTALL iterClust StartedAt: 2022-10-18 15:20:36 -0400 (Tue, 18 Oct 2022) EndedAt: 2022-10-18 15:20:41 -0400 (Tue, 18 Oct 2022) EllapsedTime: 5.7 seconds RetCode: 0 Status: OK