Package: infercnv Version: 1.11.2 Command: chmod a+r infercnv -R && D:\biocbuild\bbs-3.15-bioc\R\bin\R.exe CMD build --keep-empty-dirs --no-resave-data infercnv StartedAt: 2022-03-17 17:12:18 -0400 (Thu, 17 Mar 2022) EndedAt: 2022-03-17 17:13:59 -0400 (Thu, 17 Mar 2022) EllapsedTime: 100.5 seconds RetCode: 0 Status: OK PackageFile: infercnv_1.11.2.tar.gz PackageFileSize: 3.876 MiB