Package: immunoClust Version: 1.28.0 Command: /Library/Frameworks/R.framework/Resources/bin/R CMD build --keep-empty-dirs --no-resave-data immunoClust StartedAt: 2022-10-18 19:10:53 -0400 (Tue, 18 Oct 2022) EndedAt: 2022-10-18 19:14:47 -0400 (Tue, 18 Oct 2022) EllapsedTime: 234.6 seconds RetCode: 0 Status: OK PackageFile: immunoClust_1.28.0.tar.gz PackageFileSize: 4.193 MiB