Package: iCOBRA Version: 1.24.1 Command: /Library/Frameworks/R.framework/Resources/bin/R CMD build --keep-empty-dirs --no-resave-data iCOBRA StartedAt: 2022-10-18 19:08:20 -0400 (Tue, 18 Oct 2022) EndedAt: 2022-10-18 19:09:05 -0400 (Tue, 18 Oct 2022) EllapsedTime: 44.7 seconds RetCode: 0 Status: OK PackageFile: iCOBRA_1.24.1.tar.gz PackageFileSize: 3.008 MiB