Package: graphite Version: 1.42.0 Command: /home/biocbuild/bbs-3.15-bioc/R/bin/R CMD check --install=check:graphite.install-out.txt --library=/home/biocbuild/bbs-3.15-bioc/R/library --no-vignettes --timings graphite_1.42.0.tar.gz StartedAt: 2022-10-18 20:01:09 -0400 (Tue, 18 Oct 2022) EndedAt: 2022-10-18 20:05:32 -0400 (Tue, 18 Oct 2022) EllapsedTime: 263.2 seconds RetCode: 0 Status: OK CheckDir: graphite.Rcheck Warnings: 0