Package: graph Version: 1.74.0 Command: /Library/Frameworks/R.framework/Resources/bin/R CMD build --keep-empty-dirs --no-resave-data graph StartedAt: 2022-10-18 18:54:55 -0400 (Tue, 18 Oct 2022) EndedAt: 2022-10-18 18:55:57 -0400 (Tue, 18 Oct 2022) EllapsedTime: 62.7 seconds RetCode: 0 Status: OK PackageFile: graph_1.74.0.tar.gz PackageFileSize: 1.182 MiB