Package: graper Version: 1.12.0 Command: rm -rf graper.buildbin-libdir && mkdir graper.buildbin-libdir && F:\biocbuild\bbs-3.15-bioc\R\bin\R.exe CMD INSTALL --build --library=graper.buildbin-libdir graper_1.12.0.tar.gz StartedAt: 2022-10-19 05:59:15 -0400 (Wed, 19 Oct 2022) EndedAt: 2022-10-19 05:59:55 -0400 (Wed, 19 Oct 2022) EllapsedTime: 39.7 seconds RetCode: 0 Status: OK PackageFile: graper_1.12.0.zip PackageFileSize: 1.094 MiB