git_url: https://git.bioconductor.org/packages/granulator git_branch: RELEASE_3_15 git_last_commit: 13d4752 git_last_commit_date: 2022-04-26 12:15:07 -0400 (Tue, 26 Apr 2022) Package: granulator Version: 1.4.0 Maintainer: Sabina Pfister MaintainerEmail: sabina.pfister at novartis.com