Package: ggtree Version: 3.4.4 Command: F:\biocbuild\bbs-3.15-bioc\R\bin\R.exe CMD INSTALL ggtree StartedAt: 2022-10-18 16:18:52 -0400 (Tue, 18 Oct 2022) EndedAt: 2022-10-18 16:19:19 -0400 (Tue, 18 Oct 2022) EllapsedTime: 27.3 seconds RetCode: 0 Status: OK