Package: ggtree Version: 3.4.4 Command: F:\biocbuild\bbs-3.15-bioc\R\bin\R.exe CMD check --no-multiarch --install=check:ggtree.install-out.txt --library=F:\biocbuild\bbs-3.15-bioc\R\library --no-vignettes --timings ggtree_3.4.4.tar.gz StartedAt: 2022-10-19 00:40:47 -0400 (Wed, 19 Oct 2022) EndedAt: 2022-10-19 00:42:04 -0400 (Wed, 19 Oct 2022) EllapsedTime: 76.4 seconds RetCode: 0 Status: OK CheckDir: ggtree.Rcheck Warnings: 0