Package: ggmanh Version: 0.99.13 Command: rm -rf ggmanh.buildbin-libdir && mkdir ggmanh.buildbin-libdir && D:\biocbuild\bbs-3.15-bioc\R\bin\R.exe CMD INSTALL --build --library=ggmanh.buildbin-libdir ggmanh_0.99.13.tar.gz StartedAt: 2022-03-17 21:11:50 -0400 (Thu, 17 Mar 2022) EndedAt: 2022-03-17 21:13:05 -0400 (Thu, 17 Mar 2022) EllapsedTime: 75.0 seconds RetCode: 0 Status: OK PackageFile: ggmanh_0.99.13.zip PackageFileSize: 3.077 MiB