git_url: https://git.bioconductor.org/packages/ggcyto git_branch: RELEASE_3_15 git_last_commit: 8e94519 git_last_commit_date: 2022-06-30 21:22:30 -0400 (Thu, 30 Jun 2022) Package: ggcyto Version: 1.24.1 Maintainer: Mike Jiang MaintainerEmail: mike at ozette.com