Package: genomes Version: 3.26.0 Command: /Library/Frameworks/R.framework/Resources/bin/R CMD build --keep-empty-dirs --no-resave-data genomes StartedAt: 2022-10-18 18:41:18 -0400 (Tue, 18 Oct 2022) EndedAt: 2022-10-18 18:41:30 -0400 (Tue, 18 Oct 2022) EllapsedTime: 11.6 seconds RetCode: 0 Status: OK PackageFile: genomes_3.26.0.tar.gz PackageFileSize: 95.34 KiB