Package: gdsfmt Version: 1.32.0 Command: /home/biocbuild/bbs-3.15-bioc/R/bin/R CMD build --keep-empty-dirs --no-resave-data gdsfmt StartedAt: 2022-10-18 16:40:55 -0400 (Tue, 18 Oct 2022) EndedAt: 2022-10-18 16:44:28 -0400 (Tue, 18 Oct 2022) EllapsedTime: 213.5 seconds RetCode: 0 Status: OK PackageFile: gdsfmt_1.32.0.tar.gz PackageFileSize: 2.871 MiB