Package: gage Version: 2.46.1 Command: /Library/Frameworks/R.framework/Resources/bin/R CMD check --install=check:gage.install-out.txt --library=/Library/Frameworks/R.framework/Resources/library --no-vignettes --timings gage_2.46.1.tar.gz StartedAt: 2022-10-19 02:37:00 -0400 (Wed, 19 Oct 2022) EndedAt: 2022-10-19 02:40:27 -0400 (Wed, 19 Oct 2022) EllapsedTime: 207.1 seconds RetCode: 0 Status: WARNINGS CheckDir: gage.Rcheck Warnings: 1