Package: gaga Version: 2.42.0 Command: rm -rf gaga.buildbin-libdir && mkdir gaga.buildbin-libdir && /Users/biocbuild/BBS/utils/build-universal.sh gaga_2.42.0.tar.gz /Library/Frameworks/R.framework/Resources/bin/R gaga.buildbin-libdir StartedAt: 2022-10-19 10:23:07 -0400 (Wed, 19 Oct 2022) EndedAt: 2022-10-19 10:23:34 -0400 (Wed, 19 Oct 2022) EllapsedTime: 26.9 seconds RetCode: 0 Status: OK PackageFile: gaga_2.42.0.tgz PackageFileSize: 766.3 KiB