Package: frma Version: 1.47.0 Command: chmod a+r frma -R && D:\biocbuild\bbs-3.15-bioc\R\bin\R.exe CMD build --keep-empty-dirs --no-resave-data frma StartedAt: 2022-03-17 16:54:00 -0400 (Thu, 17 Mar 2022) EndedAt: 2022-03-17 16:54:58 -0400 (Thu, 17 Mar 2022) EllapsedTime: 57.7 seconds RetCode: 0 Status: OK PackageFile: frma_1.47.0.tar.gz PackageFileSize: 166.8 KiB