Package: frma Version: 1.48.0 Command: /home/biocbuild/bbs-3.15-bioc/R/bin/R CMD check --install=check:frma.install-out.txt --library=/home/biocbuild/bbs-3.15-bioc/R/library --no-vignettes --timings frma_1.48.0.tar.gz StartedAt: 2022-10-18 19:48:15 -0400 (Tue, 18 Oct 2022) EndedAt: 2022-10-18 19:51:22 -0400 (Tue, 18 Oct 2022) EllapsedTime: 187.0 seconds RetCode: 0 Status: OK CheckDir: frma.Rcheck Warnings: 0