Package: flowUtils Version: 1.59.0 Command: D:\biocbuild\bbs-3.15-bioc\R\bin\R.exe CMD INSTALL flowUtils StartedAt: 2022-03-17 15:32:33 -0400 (Thu, 17 Mar 2022) EndedAt: 2022-03-17 15:33:43 -0400 (Thu, 17 Mar 2022) EllapsedTime: 70.4 seconds RetCode: 0 Status: OK