Package: flowSpecs Version: 1.9.2 Command: D:\biocbuild\bbs-3.15-bioc\R\bin\R.exe CMD check --no-multiarch --install=check:flowSpecs.install-out.txt --library=D:\biocbuild\bbs-3.15-bioc\R\library --no-vignettes --timings flowSpecs_1.9.2.tar.gz StartedAt: 2022-03-17 19:07:23 -0400 (Thu, 17 Mar 2022) EndedAt: 2022-03-17 19:08:47 -0400 (Thu, 17 Mar 2022) EllapsedTime: 84.1 seconds RetCode: 0 Status: OK CheckDir: flowSpecs.Rcheck Warnings: 0