Package: flowPloidy Version: 1.22.0 Command: /Library/Frameworks/R.framework/Resources/bin/R CMD build --keep-empty-dirs --no-resave-data flowPloidy StartedAt: 2022-10-18 18:33:37 -0400 (Tue, 18 Oct 2022) EndedAt: 2022-10-18 18:34:20 -0400 (Tue, 18 Oct 2022) EllapsedTime: 43.9 seconds RetCode: 0 Status: OK PackageFile: flowPloidy_1.22.0.tar.gz PackageFileSize: 2.318 MiB