git_url: https://git.bioconductor.org/packages/flowMerge git_branch: RELEASE_3_15 git_last_commit: c6f6bf9 git_last_commit_date: 2022-04-26 11:03:10 -0400 (Tue, 26 Apr 2022) Package: flowMerge Version: 2.44.0 Maintainer: Greg Finak MaintainerEmail: gfinak at fhcrc.org