Package: famat Version: 1.5.0 Command: rm -rf famat.buildbin-libdir && mkdir famat.buildbin-libdir && D:\biocbuild\bbs-3.15-bioc\R\bin\R.exe CMD INSTALL --build --library=famat.buildbin-libdir famat_1.5.0.tar.gz StartedAt: 2022-03-17 21:07:43 -0400 (Thu, 17 Mar 2022) EndedAt: 2022-03-17 21:08:47 -0400 (Thu, 17 Mar 2022) EllapsedTime: 63.6 seconds RetCode: 0 Status: OK PackageFile: famat_1.5.0.zip PackageFileSize: 3.529 MiB